BEGIN:VCALENDAR
VERSION:2.0
PRODID:-//Christophorus-Schule Düren - ECPv6.15.20//NONSGML v1.0//EN
CALSCALE:GREGORIAN
METHOD:PUBLISH
X-ORIGINAL-URL:https://christophorus-schule.de
X-WR-CALDESC:Veranstaltungen für Christophorus-Schule Düren
REFRESH-INTERVAL;VALUE=DURATION:PT1H
X-Robots-Tag:noindex
X-PUBLISHED-TTL:PT1H
BEGIN:VTIMEZONE
TZID:Europe/Berlin
BEGIN:DAYLIGHT
TZOFFSETFROM:+0100
TZOFFSETTO:+0200
TZNAME:CEST
DTSTART:20250330T010000
END:DAYLIGHT
BEGIN:STANDARD
TZOFFSETFROM:+0200
TZOFFSETTO:+0100
TZNAME:CET
DTSTART:20251026T010000
END:STANDARD
BEGIN:DAYLIGHT
TZOFFSETFROM:+0100
TZOFFSETTO:+0200
TZNAME:CEST
DTSTART:20260329T010000
END:DAYLIGHT
BEGIN:STANDARD
TZOFFSETFROM:+0200
TZOFFSETTO:+0100
TZNAME:CET
DTSTART:20261025T010000
END:STANDARD
BEGIN:DAYLIGHT
TZOFFSETFROM:+0100
TZOFFSETTO:+0200
TZNAME:CEST
DTSTART:20270328T010000
END:DAYLIGHT
BEGIN:STANDARD
TZOFFSETFROM:+0200
TZOFFSETTO:+0100
TZNAME:CET
DTSTART:20271031T010000
END:STANDARD
END:VTIMEZONE
BEGIN:VEVENT
DTSTART;VALUE=DATE:20260501
DTEND;VALUE=DATE:20260502
DTSTAMP:20260424T094701
CREATED:20250819T163026Z
LAST-MODIFIED:20250819T163026Z
UID:18732-1777593600-1777679999@christophorus-schule.de
SUMMARY:Tag der Arbeit (schulfrei)
DESCRIPTION:
URL:https://christophorus-schule.de/event/tag-der-arbeit-schulfrei
CATEGORIES:Feiertag
END:VEVENT
BEGIN:VEVENT
DTSTART;VALUE=DATE:20260514
DTEND;VALUE=DATE:20260515
DTSTAMP:20260424T094701
CREATED:20250819T162942Z
LAST-MODIFIED:20250819T163054Z
UID:18730-1778716800-1778803199@christophorus-schule.de
SUMMARY:Christi Himmelfahrt (schulfrei)
DESCRIPTION:
URL:https://christophorus-schule.de/event/christi-himmelfahrt
CATEGORIES:Feiertag
END:VEVENT
BEGIN:VEVENT
DTSTART;VALUE=DATE:20260525
DTEND;VALUE=DATE:20260526
DTSTAMP:20260424T094701
CREATED:20250819T163227Z
LAST-MODIFIED:20250819T163227Z
UID:18735-1779667200-1779753599@christophorus-schule.de
SUMMARY:Pfingstmontag (schulfrei)
DESCRIPTION:
URL:https://christophorus-schule.de/event/pfingstmontag-schulfrei-2
CATEGORIES:Feiertag
END:VEVENT
BEGIN:VEVENT
DTSTART;VALUE=DATE:20260526
DTEND;VALUE=DATE:20260527
DTSTAMP:20260424T094701
CREATED:20250819T163305Z
LAST-MODIFIED:20250819T163305Z
UID:18737-1779753600-1779839999@christophorus-schule.de
SUMMARY:Pfingstferien
DESCRIPTION:
URL:https://christophorus-schule.de/event/pfingstferien
CATEGORIES:Ferien
END:VEVENT
BEGIN:VEVENT
DTSTART;VALUE=DATE:20260527
DTEND;VALUE=DATE:20260528
DTSTAMP:20260424T094701
CREATED:20251008T154126Z
LAST-MODIFIED:20251008T154126Z
UID:19360-1779840000-1779926399@christophorus-schule.de
SUMMARY:Bewegl. Ferientag (schulfrei)
DESCRIPTION:
URL:https://christophorus-schule.de/event/bewegl-ferientag-schulfrei-2
CATEGORIES:Beweglicher Ferientag
END:VEVENT
BEGIN:VEVENT
DTSTART;VALUE=DATE:20260604
DTEND;VALUE=DATE:20260605
DTSTAMP:20260424T094701
CREATED:20250819T163536Z
LAST-MODIFIED:20250819T163625Z
UID:18739-1780531200-1780617599@christophorus-schule.de
SUMMARY:Fronleichnam (schulfrei)
DESCRIPTION:
URL:https://christophorus-schule.de/event/fronleichnam-schulfrei-2
CATEGORIES:Feiertag
END:VEVENT
BEGIN:VEVENT
DTSTART;VALUE=DATE:20260703
DTEND;VALUE=DATE:20260704
DTSTAMP:20260424T094701
CREATED:20251008T154234Z
LAST-MODIFIED:20251008T154234Z
UID:19362-1783036800-1783123199@christophorus-schule.de
SUMMARY:BPS-Entlasstag
DESCRIPTION:
URL:https://christophorus-schule.de/event/bps-entlasstag
END:VEVENT
BEGIN:VEVENT
DTSTART;VALUE=DATE:20260717
DTEND;VALUE=DATE:20260718
DTSTAMP:20260424T094701
CREATED:20250819T163828Z
LAST-MODIFIED:20250819T163828Z
UID:18741-1784246400-1784332799@christophorus-schule.de
SUMMARY:Letzter Schultag vor den Sommerferien
DESCRIPTION:
URL:https://christophorus-schule.de/event/letzter-schultag-vor-den-sommerferien
END:VEVENT
END:VCALENDAR