BEGIN:VCALENDAR
VERSION:2.0
PRODID:-//Christophorus-Schule Düren - ECPv6.15.20//NONSGML v1.0//EN
CALSCALE:GREGORIAN
METHOD:PUBLISH
X-WR-CALNAME:Christophorus-Schule Düren
X-ORIGINAL-URL:https://christophorus-schule.de
X-WR-CALDESC:Veranstaltungen für Christophorus-Schule Düren
REFRESH-INTERVAL;VALUE=DURATION:PT1H
X-Robots-Tag:noindex
X-PUBLISHED-TTL:PT1H
BEGIN:VTIMEZONE
TZID:Europe/Berlin
BEGIN:DAYLIGHT
TZOFFSETFROM:+0100
TZOFFSETTO:+0200
TZNAME:CEST
DTSTART:20240331T010000
END:DAYLIGHT
BEGIN:STANDARD
TZOFFSETFROM:+0200
TZOFFSETTO:+0100
TZNAME:CET
DTSTART:20241027T010000
END:STANDARD
BEGIN:DAYLIGHT
TZOFFSETFROM:+0100
TZOFFSETTO:+0200
TZNAME:CEST
DTSTART:20250330T010000
END:DAYLIGHT
BEGIN:STANDARD
TZOFFSETFROM:+0200
TZOFFSETTO:+0100
TZNAME:CET
DTSTART:20251026T010000
END:STANDARD
BEGIN:DAYLIGHT
TZOFFSETFROM:+0100
TZOFFSETTO:+0200
TZNAME:CEST
DTSTART:20260329T010000
END:DAYLIGHT
BEGIN:STANDARD
TZOFFSETFROM:+0200
TZOFFSETTO:+0100
TZNAME:CET
DTSTART:20261025T010000
END:STANDARD
BEGIN:DAYLIGHT
TZOFFSETFROM:+0100
TZOFFSETTO:+0200
TZNAME:CEST
DTSTART:20270328T010000
END:DAYLIGHT
BEGIN:STANDARD
TZOFFSETFROM:+0200
TZOFFSETTO:+0100
TZNAME:CET
DTSTART:20271031T010000
END:STANDARD
END:VTIMEZONE
BEGIN:VEVENT
DTSTART;VALUE=DATE:20260417
DTEND;VALUE=DATE:20260418
DTSTAMP:20260424T111121
CREATED:20251008T153903Z
LAST-MODIFIED:20251008T153920Z
UID:19356-1776384000-1776470399@christophorus-schule.de
SUMMARY:Lehrendenausflug (schulfrei)
DESCRIPTION:
URL:https://christophorus-schule.de/event/lehrendenausflug
END:VEVENT
BEGIN:VEVENT
DTSTART;VALUE=DATE:20260330
DTEND;VALUE=DATE:20260411
DTSTAMP:20260424T111121
CREATED:20250819T162816Z
LAST-MODIFIED:20250819T162816Z
UID:18728-1774828800-1775865599@christophorus-schule.de
SUMMARY:Osterferien
DESCRIPTION:
URL:https://christophorus-schule.de/event/osterferien
CATEGORIES:Ferien
END:VEVENT
BEGIN:VEVENT
DTSTART;VALUE=DATE:20260319
DTEND;VALUE=DATE:20260320
DTSTAMP:20260424T111121
CREATED:20260218T121814Z
LAST-MODIFIED:20260309T104830Z
UID:21033-1773878400-1773964799@christophorus-schule.de
SUMMARY:Personalversammlung (Schulschluss: 10.30 Uhr)
DESCRIPTION:
URL:https://christophorus-schule.de/event/personalversammlung-frueher-schulschluss
END:VEVENT
BEGIN:VEVENT
DTSTART;VALUE=DATE:20260312
DTEND;VALUE=DATE:20260313
DTSTAMP:20260424T111121
CREATED:20251008T153754Z
LAST-MODIFIED:20251118T074921Z
UID:19354-1773273600-1773359999@christophorus-schule.de
SUMMARY:Elternsprechtag (schulfrei)
DESCRIPTION:
URL:https://christophorus-schule.de/event/elternsprechtag-6
CATEGORIES:Elternsprechtag
END:VEVENT
BEGIN:VEVENT
DTSTART;VALUE=DATE:20260217
DTEND;VALUE=DATE:20260218
DTSTAMP:20260424T111121
CREATED:20251008T152706Z
LAST-MODIFIED:20251008T153259Z
UID:19351-1771286400-1771372799@christophorus-schule.de
SUMMARY:Bewegl. Ferientag (schulfrei)
DESCRIPTION:
URL:https://christophorus-schule.de/event/bewegl-ferientag-schulfrei
CATEGORIES:Beweglicher Ferientag
END:VEVENT
BEGIN:VEVENT
DTSTART;VALUE=DATE:20260216
DTEND;VALUE=DATE:20260217
DTSTAMP:20260424T111121
CREATED:20251008T152625Z
LAST-MODIFIED:20251008T153634Z
UID:19349-1771200000-1771286399@christophorus-schule.de
SUMMARY:Rosenmontag (schulfrei)
DESCRIPTION:
URL:https://christophorus-schule.de/event/rosenmontag-schulfrei-2
CATEGORIES:Feiertag
END:VEVENT
BEGIN:VEVENT
DTSTART;VALUE=DATE:20260213
DTEND;VALUE=DATE:20260214
DTSTAMP:20260424T111121
CREATED:20251008T152351Z
LAST-MODIFIED:20251008T152405Z
UID:19344-1770940800-1771027199@christophorus-schule.de
SUMMARY:Ausgleichstag (schulfrei)
DESCRIPTION:
URL:https://christophorus-schule.de/event/ausgleichstag-schulfrei
CATEGORIES:Beweglicher Ferientag
END:VEVENT
BEGIN:VEVENT
DTSTART;VALUE=DATE:20260212
DTEND;VALUE=DATE:20260213
DTSTAMP:20260424T111121
CREATED:20251008T152508Z
LAST-MODIFIED:20251008T153541Z
UID:19346-1770854400-1770940799@christophorus-schule.de
SUMMARY:Weiberfastnacht (früher Schulschluss)
DESCRIPTION:
URL:https://christophorus-schule.de/event/weiberfastnacht-frueher-schulschluss
END:VEVENT
BEGIN:VEVENT
DTSTART;VALUE=DATE:20251222
DTEND;VALUE=DATE:20260107
DTSTAMP:20260424T111121
CREATED:20250819T162612Z
LAST-MODIFIED:20250819T162834Z
UID:18726-1766361600-1767743999@christophorus-schule.de
SUMMARY:Weihnachtsferien
DESCRIPTION:
URL:https://christophorus-schule.de/event/weihnachtsferien-3
CATEGORIES:Ferien
END:VEVENT
BEGIN:VEVENT
DTSTART;VALUE=DATE:20251118
DTEND;VALUE=DATE:20251119
DTSTAMP:20260424T111121
CREATED:20250928T133538Z
LAST-MODIFIED:20251118T074954Z
UID:19110-1763424000-1763510399@christophorus-schule.de
SUMMARY:Elternsprechtag (schulfrei)
DESCRIPTION:
URL:https://christophorus-schule.de/event/elternsprechtag-5
CATEGORIES:Elternsprechtag
END:VEVENT
BEGIN:VEVENT
DTSTART;VALUE=DATE:20251113
DTEND;VALUE=DATE:20251114
DTSTAMP:20260424T111121
CREATED:20251001T113849Z
LAST-MODIFIED:20251001T113849Z
UID:19277-1762992000-1763078399@christophorus-schule.de
SUMMARY:Pädagogischer Tag (schulfrei)
DESCRIPTION:
URL:https://christophorus-schule.de/event/paedagogischer-tag-schulfrei
CATEGORIES:Fortbildung
END:VEVENT
BEGIN:VEVENT
DTSTART;VALUE=DATE:20251108
DTEND;VALUE=DATE:20251109
DTSTAMP:20260424T111121
CREATED:20250819T162501Z
LAST-MODIFIED:20250819T162501Z
UID:18724-1762560000-1762646399@christophorus-schule.de
SUMMARY:Martinsmarkt
DESCRIPTION:
URL:https://christophorus-schule.de/event/martinsmarkt-2
END:VEVENT
BEGIN:VEVENT
DTSTART;VALUE=DATE:20251013
DTEND;VALUE=DATE:20251026
DTSTAMP:20260424T111121
CREATED:20250506T105753Z
LAST-MODIFIED:20250506T105753Z
UID:18465-1760313600-1761436799@christophorus-schule.de
SUMMARY:Herbstferien
DESCRIPTION:
URL:https://christophorus-schule.de/event/herbstferien-3
CATEGORIES:Ferien
END:VEVENT
BEGIN:VEVENT
DTSTART;TZID=Europe/Berlin:20251009T190000
DTEND;TZID=Europe/Berlin:20251009T203000
DTSTAMP:20260424T111121
CREATED:20250819T162402Z
LAST-MODIFIED:20250819T162402Z
UID:18722-1760036400-1760041800@christophorus-schule.de
SUMMARY:Elternabend zum Thema "Sicher im Netz unterwegs"
DESCRIPTION:
URL:https://christophorus-schule.de/event/elternabend-zum-thema-sicher-im-netz-unterwegs
END:VEVENT
BEGIN:VEVENT
DTSTART;VALUE=DATE:20251003
DTEND;VALUE=DATE:20251004
DTSTAMP:20260424T111121
CREATED:20250819T162143Z
LAST-MODIFIED:20250819T162143Z
UID:18720-1759449600-1759535999@christophorus-schule.de
SUMMARY:Tag der dt. Einheit (schulfrei)
DESCRIPTION:
URL:https://christophorus-schule.de/event/tag-der-dt-einheit-schulfrei-2
CATEGORIES:Feiertag
END:VEVENT
BEGIN:VEVENT
DTSTART;VALUE=DATE:20250929
DTEND;VALUE=DATE:20250930
DTSTAMP:20260424T111121
CREATED:20250819T161918Z
LAST-MODIFIED:20250819T161918Z
UID:18718-1759104000-1759190399@christophorus-schule.de
SUMMARY:Schulpflegschaft
DESCRIPTION:
URL:https://christophorus-schule.de/event/schulpflegschaft-2
END:VEVENT
BEGIN:VEVENT
DTSTART;VALUE=DATE:20250829
DTEND;VALUE=DATE:20250830
DTSTAMP:20260424T111121
CREATED:20250819T161744Z
LAST-MODIFIED:20250819T161744Z
UID:18713-1756425600-1756511999@christophorus-schule.de
SUMMARY:Einschulung der neuen Vorstufenschüler:innen
DESCRIPTION:
URL:https://christophorus-schule.de/event/einschulung-der-neuen-vorstufenschuelerinnen
END:VEVENT
BEGIN:VEVENT
DTSTART;VALUE=DATE:20250827
DTEND;VALUE=DATE:20250828
DTSTAMP:20260424T111121
CREATED:20250819T161808Z
LAST-MODIFIED:20250819T161808Z
UID:18716-1756252800-1756339199@christophorus-schule.de
SUMMARY:1. Schultag
DESCRIPTION:
URL:https://christophorus-schule.de/event/1-schultag
END:VEVENT
BEGIN:VEVENT
DTSTART;VALUE=DATE:20250714
DTEND;VALUE=DATE:20250827
DTSTAMP:20260424T111121
CREATED:20240814T144711Z
LAST-MODIFIED:20240814T144711Z
UID:15208-1752451200-1756252799@christophorus-schule.de
SUMMARY:Sommerferien
DESCRIPTION:
URL:https://christophorus-schule.de/event/sommerferien-2
CATEGORIES:Ferien
END:VEVENT
BEGIN:VEVENT
DTSTART;TZID=Europe/Berlin:20250704T183000
DTEND;TZID=Europe/Berlin:20250704T233000
DTSTAMP:20260424T111121
CREATED:20250624T101756Z
LAST-MODIFIED:20250624T101756Z
UID:18636-1751653800-1751671800@christophorus-schule.de
SUMMARY:Schulball (Abschlussball der Entlassschüler:innen)
DESCRIPTION:
URL:https://christophorus-schule.de/event/schulball-abschlussball-der-entlassschuelerinnen
END:VEVENT
BEGIN:VEVENT
DTSTART;VALUE=DATE:20250619
DTEND;VALUE=DATE:20250620
DTSTAMP:20260424T111121
CREATED:20240814T144457Z
LAST-MODIFIED:20241025T103347Z
UID:15206-1750291200-1750377599@christophorus-schule.de
SUMMARY:Fronleichnam (unterrichtsfrei)
DESCRIPTION:
URL:https://christophorus-schule.de/event/fronleichnam-schulfrei
CATEGORIES:Feiertag
END:VEVENT
BEGIN:VEVENT
DTSTART;VALUE=DATE:20250618
DTEND;VALUE=DATE:20250619
DTSTAMP:20260424T111121
CREATED:20250516T075356Z
LAST-MODIFIED:20250516T075420Z
UID:18524-1750204800-1750291199@christophorus-schule.de
SUMMARY:Lehrendenausflug (unterrichtsfrei)
DESCRIPTION:
URL:https://christophorus-schule.de/event/lehrendenausflug-schulfrei
END:VEVENT
BEGIN:VEVENT
DTSTART;VALUE=DATE:20250611
DTEND;VALUE=DATE:20250612
DTSTAMP:20260424T111121
CREATED:20241025T105048Z
LAST-MODIFIED:20241025T105048Z
UID:15524-1749600000-1749686399@christophorus-schule.de
SUMMARY:Beweglicher Ferientag (unterrichtsfrei)
DESCRIPTION:
URL:https://christophorus-schule.de/event/beweglicher-ferientag-unterrichtsfrei-2
CATEGORIES:Beweglicher Ferientag
END:VEVENT
BEGIN:VEVENT
DTSTART;VALUE=DATE:20250610
DTEND;VALUE=DATE:20250611
DTSTAMP:20260424T111121
CREATED:20241025T104951Z
LAST-MODIFIED:20241025T104951Z
UID:15522-1749513600-1749599999@christophorus-schule.de
SUMMARY:Pfingstdienstag (unterrichtsfrei)
DESCRIPTION:
URL:https://christophorus-schule.de/event/pfingstdienstag-unterrichtsfrei
CATEGORIES:Ferien
END:VEVENT
BEGIN:VEVENT
DTSTART;VALUE=DATE:20250609
DTEND;VALUE=DATE:20250610
DTSTAMP:20260424T111121
CREATED:20240814T144315Z
LAST-MODIFIED:20241025T104904Z
UID:15202-1749427200-1749513599@christophorus-schule.de
SUMMARY:Pfingstmontag (unterrichtsfrei)
DESCRIPTION:
URL:https://christophorus-schule.de/event/pfingsferien
CATEGORIES:Feiertag
END:VEVENT
BEGIN:VEVENT
DTSTART;VALUE=DATE:20250530
DTEND;VALUE=DATE:20250531
DTSTAMP:20260424T111121
CREATED:20241025T104501Z
LAST-MODIFIED:20241025T104523Z
UID:15519-1748563200-1748649599@christophorus-schule.de
SUMMARY:Beweglicher Ferientag (unterrichtsfrei)
DESCRIPTION:
URL:https://christophorus-schule.de/event/beweglicher-ferientag-unterrichtsfrei
CATEGORIES:Beweglicher Ferientag
END:VEVENT
BEGIN:VEVENT
DTSTART;VALUE=DATE:20250529
DTEND;VALUE=DATE:20250530
DTSTAMP:20260424T111121
CREATED:20240814T144140Z
LAST-MODIFIED:20241025T103401Z
UID:15200-1748476800-1748563199@christophorus-schule.de
SUMMARY:Christi Himmelfahrt (unterrichtsfrei)
DESCRIPTION:
URL:https://christophorus-schule.de/event/christi-himmelfahrt-schulfrei
CATEGORIES:Feiertag
END:VEVENT
BEGIN:VEVENT
DTSTART;VALUE=DATE:20250523
DTEND;VALUE=DATE:20250524
DTSTAMP:20260424T111121
CREATED:20250504T114218Z
LAST-MODIFIED:20250504T114218Z
UID:18450-1747958400-1748044799@christophorus-schule.de
SUMMARY:Kollegiumsinterne Fortbildung (unterrichtsfrei)
DESCRIPTION:
URL:https://christophorus-schule.de/event/kollegiumsinterne-fortbildung-unterrichtsfrei-2
CATEGORIES:Fortbildung
END:VEVENT
BEGIN:VEVENT
DTSTART;VALUE=DATE:20250501
DTEND;VALUE=DATE:20250502
DTSTAMP:20260424T111121
CREATED:20240814T144037Z
LAST-MODIFIED:20241025T103413Z
UID:15198-1746057600-1746143999@christophorus-schule.de
SUMMARY:Tag der Arbeit (unterrichtsfrei)
DESCRIPTION:
URL:https://christophorus-schule.de/event/tag-der-arbeit-schulfrei-4
CATEGORIES:Feiertag
END:VEVENT
BEGIN:VEVENT
DTSTART;VALUE=DATE:20250414
DTEND;VALUE=DATE:20250426
DTSTAMP:20260424T111121
CREATED:20240814T143943Z
LAST-MODIFIED:20240814T144534Z
UID:15195-1744588800-1745625599@christophorus-schule.de
SUMMARY:Osterferien
DESCRIPTION:
URL:https://christophorus-schule.de/event/osterferien-schulfrei
CATEGORIES:Ferien
END:VEVENT
END:VCALENDAR